BEGIN:VCALENDAR
VERSION:2.0
PRODID:-//Arizona Independent Voter&#039;s Network - ECPv6.15.20//NONSGML v1.0//EN
CALSCALE:GREGORIAN
METHOD:PUBLISH
X-ORIGINAL-URL:https://azindvoters.net
X-WR-CALDESC:Events for Arizona Independent Voter&#039;s Network
REFRESH-INTERVAL;VALUE=DURATION:PT1H
X-Robots-Tag:noindex
X-PUBLISHED-TTL:PT1H
BEGIN:VTIMEZONE
TZID:UTC
BEGIN:STANDARD
TZOFFSETFROM:+0000
TZOFFSETTO:+0000
TZNAME:UTC
DTSTART:20250101T000000
END:STANDARD
END:VTIMEZONE
BEGIN:VEVENT
DTSTART;TZID=UTC:20260307T090000
DTEND;TZID=UTC:20260307T110000
DTSTAMP:20260423T210851
CREATED:20260307T032204Z
LAST-MODIFIED:20260307T032204Z
UID:35844-1772874000-1772881200@azindvoters.net
SUMMARY:UnSeat Ciscomani
DESCRIPTION:Weekly (Saturdays\, ongoing) — Protest Outside Rep. Ciscomani’s Office Organizers gather Saturdays at 9 a.m. outside Congressman Juan Ciscomani’s office at 1636 N. Swan Rd.\, Tucson for a peaceful protest\, with extra signs\, chairs\, and a letter-writing station available.
URL:https://azindvoters.net/event/unseat-ciscomani/
END:VEVENT
BEGIN:VEVENT
DTSTART;TZID=UTC:20260314T090000
DTEND;TZID=UTC:20260314T110000
DTSTAMP:20260423T210851
CREATED:20260310T154512Z
LAST-MODIFIED:20260310T154830Z
UID:35847-1773478800-1773486000@azindvoters.net
SUMMARY:UnSeat Ciscomani (Saturdays\, ongoing)
DESCRIPTION:Weekly (Saturdays\, ongoing) — Protest Outside Rep. Ciscomani’s Office Organizers gather Saturdays at 9 a.m. outside Congressman Juan Ciscomani’s office at 1636 N. Swan Rd.\, Tucson for a peaceful protest\, with extra signs\, chairs\, and a letter-writing station available.
URL:https://azindvoters.net/event/unseat-ciscomani-saturdays-ongoing/
LOCATION:Ciscomani’s Office\, 1636 N. Swan Rd.\, Tucson\, AZ\, 85712\, United States
END:VEVENT
BEGIN:VEVENT
DTSTART;TZID=UTC:20260327T080000
DTEND;TZID=UTC:20260327T170000
DTSTAMP:20260423T210851
CREATED:20260313T215539Z
LAST-MODIFIED:20260313T215539Z
UID:35852-1774598400-1774630800@azindvoters.net
SUMMARY:SRP Governance and Leadership Elections\, 3/27
DESCRIPTION:Friday\, March 27 – Last Day to Accept Requests for Early Voting Ballots by Mail (5 p.m.)
URL:https://azindvoters.net/event/srp-governance-and-leadership-elections-3-27/
END:VEVENT
BEGIN:VEVENT
DTSTART;TZID=UTC:20260328T090000
DTEND;TZID=UTC:20260328T150000
DTSTAMP:20260423T210851
CREATED:20260310T155457Z
LAST-MODIFIED:20260310T155457Z
UID:35850-1774688400-1774710000@azindvoters.net
SUMMARY:No Kings 3
DESCRIPTION:March 28 — “No Kings 3” Nationwide Day of Action The third national “No Kings” protest is scheduled for March 28\, with events expected across the Phoenix metro as well. (Check 50501az.com or Mobilize.us for specific Phoenix-area location details.)
URL:https://azindvoters.net/event/no-kings-3/
END:VEVENT
BEGIN:VEVENT
DTSTART;TZID=UTC:20260407T080000
DTEND;TZID=UTC:20260407T170000
DTSTAMP:20260423T210851
CREATED:20260313T215754Z
LAST-MODIFIED:20260313T215754Z
UID:35854-1775548800-1775581200@azindvoters.net
SUMMARY:SRP Governance and Leadership Elections
DESCRIPTION:Tue.\, April 7 – ELECTIONS DAY \n\nIn-Person Voting at SRP Voting Center from 6 a.m. to 7 p.m. SRP Administration Building 1500 N. Mill Ave.\, Tempe 85288\nEarly Voting Ballots Must be Hand-Delivered to the SRP Corporate Secretary’s Office\, SRP Voting Center or Designated Drop-Off Locations No Later than 7 p.m. to be Counted.
URL:https://azindvoters.net/event/srp-governance-and-leadership-elections/
END:VEVENT
END:VCALENDAR