BEGIN:VCALENDAR
VERSION:2.0
PRODID:-//Arizona Independent Voter&#039;s Network - ECPv6.15.20//NONSGML v1.0//EN
CALSCALE:GREGORIAN
METHOD:PUBLISH
X-WR-CALNAME:Arizona Independent Voter&#039;s Network
X-ORIGINAL-URL:https://azindvoters.net
X-WR-CALDESC:Events for Arizona Independent Voter&#039;s Network
REFRESH-INTERVAL;VALUE=DURATION:PT1H
X-Robots-Tag:noindex
X-PUBLISHED-TTL:PT1H
BEGIN:VTIMEZONE
TZID:UTC
BEGIN:STANDARD
TZOFFSETFROM:+0000
TZOFFSETTO:+0000
TZNAME:UTC
DTSTART:20240101T000000
END:STANDARD
END:VTIMEZONE
BEGIN:VTIMEZONE
TZID:Asia/Krasnoyarsk
BEGIN:STANDARD
TZOFFSETFROM:+0700
TZOFFSETTO:+0700
TZNAME:+07
DTSTART:20240101T000000
END:STANDARD
END:VTIMEZONE
BEGIN:VEVENT
DTSTART;TZID=UTC:20250218T183000
DTEND;TZID=UTC:20250218T203000
DTSTAMP:20260423T224641
CREATED:20250213T144814Z
LAST-MODIFIED:20250213T144814Z
UID:35647-1739903400-1739910600@azindvoters.net
SUMMARY:Voter Choice Arizona (RCV) Happy Hour
DESCRIPTION:Voter Choice Arizona (ranked choice voting) meets every 3rd Tuesday at the Pita Jungle Downtown\, 1001 N 3rd Ave #4\, Phoenix\, AZ 85003. February’s meeting will be on Tuesday February 18th at 6:30 PM. Come and meet other volunteers and learn the latest about their efforts to bring voters more choice and more voice! They ask that you please\, RSVP on Partiful. You can do that at this link.
URL:https://azindvoters.net/event/voter-choice-arizona-rcv-happy-hour/
LOCATION:Pita Jungle Downtown\, 1001 N 3rd Ave #4\, Phoenix\, AZ\, 85003\, United States
END:VEVENT
BEGIN:VEVENT
DTSTART;TZID=Asia/Krasnoyarsk:20250120T160000
DTEND;TZID=Asia/Krasnoyarsk:20250120T180000
DTSTAMP:20260423T224641
CREATED:20241219T232720Z
LAST-MODIFIED:20241219T232720Z
UID:35602-1737388800-1737396000@azindvoters.net
SUMMARY:Who is the Independent Voter?
DESCRIPTION:The League of Women Voters of Northern Arizona will present “Who is the Independent Voter?” on Saturday\, January 20 from 2:00 to 4:00 PM in the KSB EcoHub\, 360 Brewer Road\, Sedona\, AZ. The program is free and everyone is welcome. \nIndependent voters are now the largest bloc of potential voters in our state. Who are these growing numbers of independents\, what do they want and how are they transforming the political landscape in Arizona and the United States? How is the volatile crisis in US democracy connected to this steep rise of independent voters. \nPaul Friedman and Jon Thompson are the co-facilitators and their guests are Thom Reilly and Jacqueline Salit\, co-directors of the Center for an Independent and Sustainable Democracy at Arizona State University and authors of “The Independent Voter\, Routledge 2022”. \nSee the League of Women Voters of Northern Arizona for more information and registration… \nThe League of Women Voters Northern Arizona (LWVNAZ) is a nonpartisan political organization open to all individuals. It encourages informed and active participation in government and works to influence public policy through education and advocacy.
URL:https://azindvoters.net/event/who-is-the-independent-voter/
LOCATION:KSB EcoHub\, 360 Brewer Road\, Sedona\, AZ\, 86336\, United States
END:VEVENT
END:VCALENDAR